BEGIN:VCALENDAR
VERSION:2.0
PRODID:-//www.childcaredutchess.org//NONSGML kigkonsult.se iCalcreator 2.30
 .10//
CALSCALE:GREGORIAN
METHOD:PUBLISH
UID:fc7e4023-6312-4ae2-9b05-788a4bbb27f7
X-WR-CALDESC:In this training\, participants will gain an understanding of 
 the required OCFS medical paperwork\, including guidance on tracking child
 ren's immunization schedules. They will learn about the program's health c
 are plan as a living document\, how and when it should be updated\, and th
 e proper storage of medication within the program. The session will also c
 over completing blue cards\, the purpose of the newly introduced OCFS yell
 ow allergy cards\, and provide information on how to become MAT certified.
 \n\nTrainer: Carol Hand\, Regulator\, CCCDP\nCost: FREE\nOCFS Subject Area
 s Covered: (4) Safety & Security Procedures & (5) Business Record Maintena
 nce & Management\n\nTraining is appropriate for FDC & GFDC modalities ONLY
 .
X-WR-RELCALID:56d52fb6d03e18b1cc427e95eae81802
X-WR-TIMEZONE:America/New_York
BEGIN:VTIMEZONE
TZID:America/New_York
BEGIN:STANDARD
TZNAME:EST
DTSTART:20241103T020000
TZOFFSETFROM:-0400
TZOFFSETTO:-0500
RDATE:20251102T020000
END:STANDARD
BEGIN:DAYLIGHT
TZNAME:EDT
DTSTART:20240310T020000
TZOFFSETFROM:-0500
TZOFFSETTO:-0400
RDATE:20250309T020000
RDATE:20260308T020000
END:DAYLIGHT
END:VTIMEZONE
BEGIN:VEVENT
UID:96036e7a-ac13-4afb-96fc-79414957bfc3
DTSTAMP:20260421T173809Z
DESCRIPTION:In this training\, participants will gain an understanding of t
 he required OCFS medical paperwork\, including guidance on tracking childr
 en's immunization schedules. They will learn about the program's health ca
 re plan as a living document\, how and when it should be updated\, and the
  proper storage of medication within the program. The session will also co
 ver completing blue cards\, the purpose of the newly introduced OCFS yello
 w allergy cards\, and provide information on how to become MAT certified.
 \n\nTrainer: Carol Hand\, Regulator\, CCCDP\nCost: FREE\nOCFS Subject Area
 s Covered: (4) Safety & Security Procedures & (5) Business Record Maintena
 nce & Management\n\nTraining is appropriate for FDC & GFDC modalities ONLY
 .
DTSTART;TZID=America/New_York:20250211T183000
DTEND;TZID=America/New_York:20250211T200000
LOCATION:301 Manchester Rd. Suite 201A\, Poughkeepse\, NY 12603 US
SUMMARY:Council Cluster - No More Paperwork Panic: Navigating Medical Forms
END:VEVENT
END:VCALENDAR
