BEGIN:VCALENDAR
VERSION:2.0
PRODID:-//www.childcaredutchess.org//NONSGML kigkonsult.se iCalcreator 2.30
 .10//
CALSCALE:GREGORIAN
METHOD:PUBLISH
UID:6c5b367c-0c6f-4258-bf13-035c8f8c4175
X-WR-CALDESC:Paperwork can sometimes be overwhelming.  In this training we 
 will take the stress out of program paperwork.  Participants will learn or
 ganization strategies to regain control of paperwork.  A regulator will be
  available to answer questions regarding required NYS OCFS child care pape
 rwork and we will take you step by step through most of the required paper
 work for registered and licensed programs.  \n\nTrainer: Wendy Cooper\, Di
 rector of Professional Development\, CCCDP\n\nCost: $25 per person\n\nOCFS
  subject areas covered: (5) Business Record Keeping and Management and (7)
  Statutes and Regulations Pertaining to Child Day Care\n\nAppropriate for 
 all modalities.
X-WR-RELCALID:16c8b52d8ee3cdf7cec37f172b21920b
X-WR-TIMEZONE:America/New_York
BEGIN:VTIMEZONE
TZID:America/New_York
BEGIN:STANDARD
TZNAME:EST
DTSTART:20241103T020000
TZOFFSETFROM:-0400
TZOFFSETTO:-0500
RDATE:20251102T020000
END:STANDARD
BEGIN:DAYLIGHT
TZNAME:EDT
DTSTART:20240310T020000
TZOFFSETFROM:-0500
TZOFFSETTO:-0400
RDATE:20250309T020000
RDATE:20260308T020000
END:DAYLIGHT
END:VTIMEZONE
BEGIN:VEVENT
UID:42c1a24d-65b9-4b92-8330-93597bb348a5
DTSTAMP:20260421T173728Z
DESCRIPTION:Paperwork can sometimes be overwhelming.  In this training we w
 ill take the stress out of program paperwork.  Participants will learn org
 anization strategies to regain control of paperwork.  A regulator will be 
 available to answer questions regarding required NYS OCFS child care paper
 work and we will take you step by step through most of the required paperw
 ork for registered and licensed programs.  \n\nTrainer: Wendy Cooper\, Dir
 ector of Professional Development\, CCCDP\n\nCost: $25 per person\n\nOCFS 
 subject areas covered: (5) Business Record Keeping and Management and (7) 
 Statutes and Regulations Pertaining to Child Day Care\n\nAppropriate for a
 ll modalities.
DTSTART;TZID=America/New_York:20250220T183000
DTEND;TZID=America/New_York:20250220T203000
LOCATION:301 Manchester Rd. Suite 201A\, Poughkeepse\, NY 12603 US
SUMMARY:Paperwork with Purpose: Mastering Program Documentation
END:VEVENT
END:VCALENDAR
