BEGIN:VCALENDAR
VERSION:2.0
PRODID:-//www.childcaredutchess.org//NONSGML kigkonsult.se iCalcreator 2.30
 .10//
CALSCALE:GREGORIAN
METHOD:PUBLISH
UID:9ae2d57c-24e5-436b-9e0d-57fd4f5bee61
X-WR-CALDESC:Clarity with Consistency: A Three-tier Approach to Development
 ally Appropriate Practice - Series One\n\nCourse 1- Routines of the room: 
 Proactive Classroom Management \n\nIn this course we will review the roles
  and responsibilities of the providers\, learning environment/maintenance\
 , material maintenance\, being prepared to observe\, document\, and commun
 icate\, basic review of typical development and curriculum/implementation 
 in each area of play in order to engage the children throughout their whol
 e day. \n\nTrainer: Tiffinie Helweg\, Infant/Toddler Specialist\, CCCDP\n
 \nCost: $25\n\nOCFS Subject Areas Covered: (1) Principles of childhood dev
 elopment\, (3) Child day care program development\n
X-WR-RELCALID:a28cc462b2dd451dc6a407ce2046a968
X-WR-TIMEZONE:America/New_York
BEGIN:VTIMEZONE
TZID:America/New_York
BEGIN:STANDARD
TZNAME:EST
DTSTART:20241103T020000
TZOFFSETFROM:-0400
TZOFFSETTO:-0500
RDATE:20251102T020000
END:STANDARD
BEGIN:DAYLIGHT
TZNAME:EDT
DTSTART:20240310T020000
TZOFFSETFROM:-0500
TZOFFSETTO:-0400
RDATE:20250309T020000
RDATE:20260308T020000
END:DAYLIGHT
END:VTIMEZONE
BEGIN:VEVENT
UID:e9caa2ad-4b4b-4019-a963-de3228fd8051
DTSTAMP:20260421T193147Z
DESCRIPTION:Clarity with Consistency: A Three-tier Approach to Developmenta
 lly Appropriate Practice - Series One\n\nCourse 1- Routines of the room: P
 roactive Classroom Management \n\nIn this course we will review the roles 
 and responsibilities of the providers\, learning environment/maintenance\,
  material maintenance\, being prepared to observe\, document\, and communi
 cate\, basic review of typical development and curriculum/implementation i
 n each area of play in order to engage the children throughout their whole
  day. \n\nTrainer: Tiffinie Helweg\, Infant/Toddler Specialist\, CCCDP\n\n
 Cost: $25\n\nOCFS Subject Areas Covered: (1) Principles of childhood devel
 opment\, (3) Child day care program development\n
DTSTART;TZID=America/New_York:20250306T183000
DTEND;TZID=America/New_York:20250306T203000
LOCATION:301 Manchester Rd. Suite 201A\, Poughkeepse\, AL 12603 US
SUMMARY:CANCELLED - Clarity with Consistency: DAP 1 - Routines of the Room:
  Proactive Classroom Management
END:VEVENT
END:VCALENDAR
