BEGIN:VCALENDAR
VERSION:2.0
PRODID:-//www.childcaredutchess.org//NONSGML kigkonsult.se iCalcreator 2.30
 .10//
CALSCALE:GREGORIAN
METHOD:PUBLISH
UID:68733441-1a36-48e5-996c-b2da94bd922b
X-WR-CALDESC:Participants attending this training will understand the defin
 ition and value of marketing efforts that are focused both externally and 
 internally\, be able to articulate their program’s features and benefits a
 nd understand how to use such marketing tools. Participants will appreciat
 e how information can help them make marketing decisions about where to sp
 end their time\, energy\, and resources.\n\nTrainer: Kathleen Murphy\, Dir
 ector of Business Services\, CCCDP\n\nCost: $10.00\n\nOCFS Subject areas c
 overed: (5) Business Record Maintenance and Management\n\nThis training is
  for FDC and GFDC providers.
X-WR-RELCALID:74c474ea77009439d35904c10a67305c
X-WR-TIMEZONE:America/New_York
BEGIN:VTIMEZONE
TZID:America/New_York
BEGIN:STANDARD
TZNAME:EST
DTSTART:20241103T020000
TZOFFSETFROM:-0400
TZOFFSETTO:-0500
RDATE:20251102T020000
END:STANDARD
BEGIN:DAYLIGHT
TZNAME:EDT
DTSTART:20250309T020000
TZOFFSETFROM:-0500
TZOFFSETTO:-0400
RDATE:20260308T020000
END:DAYLIGHT
END:VTIMEZONE
BEGIN:VEVENT
UID:7f2de9c7-47c0-4192-8c42-4062b4134481
DTSTAMP:20260421T193704Z
DESCRIPTION:Participants attending this training will understand the defini
 tion and value of marketing efforts that are focused both externally and i
 nternally\, be able to articulate their program’s features and benefits an
 d understand how to use such marketing tools. Participants will appreciate
  how information can help them make marketing decisions about where to spe
 nd their time\, energy\, and resources.\n\nTrainer: Kathleen Murphy\, Dire
 ctor of Business Services\, CCCDP\n\nCost: $10.00\n\nOCFS Subject areas co
 vered: (5) Business Record Maintenance and Management\n\nThis training is 
 for FDC and GFDC providers.
DTSTART;TZID=America/New_York:20250315T090000
DTEND;TZID=America/New_York:20250315T120000
LOCATION:301 Manchester Rd. Suite 201A\, Poughkeepse\, NY 12603 US
SUMMARY:CANCELLED - Strengthening Business Practices: Marketing
END:VEVENT
END:VCALENDAR
