BEGIN:VCALENDAR
VERSION:2.0
PRODID:-//www.childcaredutchess.org//NONSGML kigkonsult.se iCalcreator 2.30
 .10//
CALSCALE:GREGORIAN
METHOD:PUBLISH
UID:e6872e40-bc52-49ae-9747-8f4c93dc90d5
X-WR-CALDESC:Mandated Reporter training educates individuals on their legal
  and ethical responsibilities to report suspected child abuse or neglect. 
 This training covers how to recognize signs of abuse\, understand state la
 ws and child care regulations regarding reporting requirements\, and prope
 r procedures for notifying authorities.\n\nTrainers: Kathleen Murphy\, Dir
 ector of Business Services\, CCCDP\n                    Wendy Cooper\, Dir
 ector of Professional Development\, CCCDP\n\nCost: $25.00 per person\n\nNY
 S OCFS Subject Areas Covered: 4\, 6\, & 8\n\nThis training is appropriate 
 for all modalities.\n\n** Please note: Providers are required to take the 
 updated online Mandated Reporter training by April 2025.
X-WR-RELCALID:d337edf923b0c96b535b92c4b970fc56
X-WR-TIMEZONE:America/New_York
BEGIN:VTIMEZONE
TZID:America/New_York
BEGIN:STANDARD
TZNAME:EST
DTSTART:20241103T020000
TZOFFSETFROM:-0400
TZOFFSETTO:-0500
RDATE:20251102T020000
END:STANDARD
BEGIN:DAYLIGHT
TZNAME:EDT
DTSTART:20250309T020000
TZOFFSETFROM:-0500
TZOFFSETTO:-0400
RDATE:20260308T020000
END:DAYLIGHT
END:VTIMEZONE
BEGIN:VEVENT
UID:cd77ae08-7ad9-4c36-b31f-25cbfda30830
DTSTAMP:20260421T193351Z
DESCRIPTION:Mandated Reporter training educates individuals on their legal 
 and ethical responsibilities to report suspected child abuse or neglect. T
 his training covers how to recognize signs of abuse\, understand state law
 s and child care regulations regarding reporting requirements\, and proper
  procedures for notifying authorities.\n\nTrainers: Kathleen Murphy\, Dire
 ctor of Business Services\, CCCDP\n                    Wendy Cooper\, Dire
 ctor of Professional Development\, CCCDP\n\nCost: $25.00 per person\n\nNYS
  OCFS Subject Areas Covered: 4\, 6\, & 8\n\nThis training is appropriate f
 or all modalities.\n\n** Please note: Providers are required to take the u
 pdated online Mandated Reporter training by April 2025.
DTSTART;TZID=America/New_York:20250320T183000
DTEND;TZID=America/New_York:20250320T203000
LOCATION:301 Manchester Rd. Suite 201A\, Poughkeepse\, AL 12603 US
SUMMARY:CANCELLED - Mandated Reporter: Child Abuse and Maltreatment
END:VEVENT
END:VCALENDAR
