BEGIN:VCALENDAR
VERSION:2.0
PRODID:-//www.childcaredutchess.org//NONSGML kigkonsult.se iCalcreator 2.30
 .10//
CALSCALE:GREGORIAN
METHOD:PUBLISH
UID:d62fea9c-bc50-477f-beae-c361beb87ef4
X-WR-CALDESC:Adverse Childhood Experiences (ACEs) are potentially traumatic
  events that occur in childhood. Attending this training\, participants wi
 ll increase their knowledge and understanding of ACEs. Discover how young 
 children’s brain development is affected by ACEs and how ACEs can affect a
  child’s behavior in a classroom setting.\n\nTrainer: Kathleen Murphy\, Di
 rector of Business Services\, CCCDP\n\nCost: $35\n\nOCFS Subject Area Cove
 red: (10) Adverse Childhood Experiences
X-WR-RELCALID:8d9fa553c91849fa4de1ca75326627a5
X-WR-TIMEZONE:America/New_York
BEGIN:VTIMEZONE
TZID:America/New_York
BEGIN:STANDARD
TZNAME:EST
DTSTART:20241103T020000
TZOFFSETFROM:-0400
TZOFFSETTO:-0500
RDATE:20251102T020000
END:STANDARD
BEGIN:DAYLIGHT
TZNAME:EDT
DTSTART:20250309T020000
TZOFFSETFROM:-0500
TZOFFSETTO:-0400
RDATE:20260308T020000
END:DAYLIGHT
END:VTIMEZONE
BEGIN:VEVENT
UID:f3f7a639-85ea-4d5d-99c2-424f4cdb14d8
DTSTAMP:20260421T210857Z
DESCRIPTION:Adverse Childhood Experiences (ACEs) are potentially traumatic 
 events that occur in childhood. Attending this training\, participants wil
 l increase their knowledge and understanding of ACEs. Discover how young c
 hildren’s brain development is affected by ACEs and how ACEs can affect a 
 child’s behavior in a classroom setting.\n\nTrainer: Kathleen Murphy\, Dir
 ector of Business Services\, CCCDP\n\nCost: $35\n\nOCFS Subject Area Cover
 ed: (10) Adverse Childhood Experiences
DTSTART;TZID=America/New_York:20250426T090000
DTEND;TZID=America/New_York:20250426T120000
LOCATION:301 Manchester Rd. Suite 201A\, Poughkeepse\, AL 12603 US
SUMMARY:CANCELLED - 101-Level Adverse Childhood Experiences (ACEs)
END:VEVENT
END:VCALENDAR
