BEGIN:VCALENDAR
VERSION:2.0
PRODID:-//www.childcaredutchess.org//NONSGML kigkonsult.se iCalcreator 2.30
 .10//
CALSCALE:GREGORIAN
METHOD:PUBLISH
UID:5a185135-3993-4080-91ba-32c59c8072df
X-WR-CALDESC:
X-WR-RELCALID:6615cfadf04012fe591c619c68055ddd
X-WR-TIMEZONE:America/New_York
BEGIN:VTIMEZONE
TZID:America/New_York
BEGIN:STANDARD
TZNAME:EST
DTSTART:20241103T020000
TZOFFSETFROM:-0400
TZOFFSETTO:-0500
RDATE:20251102T020000
RDATE:20261101T020000
END:STANDARD
BEGIN:DAYLIGHT
TZNAME:EDT
DTSTART:20250309T020000
TZOFFSETFROM:-0500
TZOFFSETTO:-0400
RDATE:20260308T020000
END:DAYLIGHT
END:VTIMEZONE
BEGIN:VEVENT
UID:cca7589c-088f-43ba-ba4e-80a8c8088fab
DTSTAMP:20260421T225619Z
DESCRIPTION:
DTSTART;TZID=America/New_York:20250508T180000
DTEND;TZID=America/New_York:20250508T210000
LOCATION:70 Widmer Road \, Wappingers Falls\, NY 12590 US
SUMMARY:Champions of Child Care
END:VEVENT
END:VCALENDAR
