BEGIN:VCALENDAR
VERSION:2.0
PRODID:-//www.childcaredutchess.org//NONSGML kigkonsult.se iCalcreator 2.30
 .10//
CALSCALE:GREGORIAN
METHOD:PUBLISH
UID:05a5aa44-a1c0-499e-9b55-15e384f13418
X-WR-CALDESC:Saturday\, May 17\, 2025\n9:30 am - 12:30 pm\n301 Manchester R
 d. Suite 201A\nPoughkeepsie\, NY 12603\n\nThis class meets the OCFS requir
 ements for CPR and First Aid for child care providers.\n\nTrainer: Scott K
 ohn\, Certified First Aid/CPR Instructor\n\nThe cost for the class is $100
  per person and is not EIP eligible.\n\nTHIS CLASS IS LIMITED TO 20 PEOPLE
  ONLY. Register early to reserve your spot!
X-WR-RELCALID:1045d9ca381d546bbd7582a68f6860c0
X-WR-TIMEZONE:America/New_York
BEGIN:VTIMEZONE
TZID:America/New_York
BEGIN:STANDARD
TZNAME:EST
DTSTART:20241103T020000
TZOFFSETFROM:-0400
TZOFFSETTO:-0500
RDATE:20251102T020000
RDATE:20261101T020000
END:STANDARD
BEGIN:DAYLIGHT
TZNAME:EDT
DTSTART:20250309T020000
TZOFFSETFROM:-0500
TZOFFSETTO:-0400
RDATE:20260308T020000
END:DAYLIGHT
END:VTIMEZONE
BEGIN:VEVENT
UID:0dc19654-9c27-4304-a25b-3da855643544
DTSTAMP:20260421T230342Z
DESCRIPTION:Saturday\, May 17\, 2025\n9:30 am - 12:30 pm\n301 Manchester Rd
 . Suite 201A\nPoughkeepsie\, NY 12603\n\nThis class meets the OCFS require
 ments for CPR and First Aid for child care providers.\n\nTrainer: Scott Ko
 hn\, Certified First Aid/CPR Instructor\n\nThe cost for the class is $100 
 per person and is not EIP eligible.\n\nTHIS CLASS IS LIMITED TO 20 PEOPLE 
 ONLY. Register early to reserve your spot!
DTSTART;TZID=America/New_York:20250517T060000
DTEND;TZID=America/New_York:20250517T060001
LOCATION:301 Manchester Rd. Suite 201A\, Poughkeepse\, NY 12603 US
SUMMARY:Cancelled - First Aid/CPR/AED
END:VEVENT
END:VCALENDAR
