BEGIN:VCALENDAR
VERSION:2.0
PRODID:-//www.childcaredutchess.org//NONSGML kigkonsult.se iCalcreator 2.30
 .10//
CALSCALE:GREGORIAN
METHOD:PUBLISH
UID:ecb11ddb-5858-4a7d-ba46-6d39f3bfc72c
X-WR-CALDESC:Bridging the Gap: Effective Communication Between Parents and 
 Child Care Providers\n\nIn this course participants will discuss technique
 s to build strong\, collaborative relationships and review role-playing sc
 enarios to practice constructive conversations.\n\n\nTrainer: Scott Kohn\n
 \nCost: $25\n\nOCFS Subject Areas Covered:  (4) Safety and Security Proced
 ures
X-WR-RELCALID:0fb6f220d8f23d9e98c79bf714e4fd91
X-WR-TIMEZONE:America/New_York
BEGIN:VTIMEZONE
TZID:America/New_York
BEGIN:STANDARD
TZNAME:EST
DTSTART:20241103T020000
TZOFFSETFROM:-0400
TZOFFSETTO:-0500
RDATE:20251102T020000
RDATE:20261101T020000
END:STANDARD
BEGIN:DAYLIGHT
TZNAME:EDT
DTSTART:20250309T020000
TZOFFSETFROM:-0500
TZOFFSETTO:-0400
RDATE:20260308T020000
END:DAYLIGHT
END:VTIMEZONE
BEGIN:VEVENT
UID:1b1673ae-3b45-4b44-9554-45544e00dc2a
DTSTAMP:20260421T225922Z
DESCRIPTION:Bridging the Gap: Effective Communication Between Parents and C
 hild Care Providers\n\nIn this course participants will discuss techniques
  to build strong\, collaborative relationships and review role-playing sce
 narios to practice constructive conversations.\n\n\nTrainer: Scott Kohn\n
 \nCost: $25\n\nOCFS Subject Areas Covered:  (4) Safety and Security Proced
 ures
DTSTART;TZID=America/New_York:20250522T183000
DTEND;TZID=America/New_York:20250522T203000
LOCATION:301 Manchester Rd. Suite 201A\, Poughkeepse\, NY 12603 US
SUMMARY:- CANCELLED - Bridging the Gap: Effective Communication Between Par
 ents and Child Care Providers
END:VEVENT
END:VCALENDAR
