BEGIN:VCALENDAR
VERSION:2.0
PRODID:-//www.childcaredutchess.org//NONSGML kigkonsult.se iCalcreator 2.30
 .10//
CALSCALE:GREGORIAN
METHOD:PUBLISH
UID:59ded0f9-a60f-47c3-b155-cb3df39b48a4
X-WR-CALDESC:Clarity with Consistency: A Three-tier Approach to Development
 ally Appropriate Practice - Course Three\n\nCourse Three: Responding with 
 Loving Care\n\nIn this course we will be referring to the NYS Department o
 f Health early intervention guide as we talk about red flag behaviors and 
 the steps to take when we have exhausted typical classroom interventions. 
 \n\n\nTrainer: Tiffinie Helweg\, Infant/Toddler Specialist\, CCCDP\n\nCost
 : $25\n\nOCFS Subject Areas Covered: (1) Principles of childhood developme
 nt\, (3) Child day care program development\n
X-WR-RELCALID:1080cb28e0b110d79f97d726ce0a0462
X-WR-TIMEZONE:America/New_York
BEGIN:VTIMEZONE
TZID:America/New_York
BEGIN:STANDARD
TZNAME:EST
DTSTART:20241103T020000
TZOFFSETFROM:-0400
TZOFFSETTO:-0500
RDATE:20251102T020000
RDATE:20261101T020000
END:STANDARD
BEGIN:DAYLIGHT
TZNAME:EDT
DTSTART:20250309T020000
TZOFFSETFROM:-0500
TZOFFSETTO:-0400
RDATE:20260308T020000
END:DAYLIGHT
END:VTIMEZONE
BEGIN:VEVENT
UID:343f4560-ddf4-400d-97d8-5bba6e79c8d1
DTSTAMP:20260422T003239Z
DESCRIPTION:Clarity with Consistency: A Three-tier Approach to Developmenta
 lly Appropriate Practice - Course Three\n\nCourse Three: Responding with L
 oving Care\n\nIn this course we will be referring to the NYS Department of
  Health early intervention guide as we talk about red flag behaviors and t
 he steps to take when we have exhausted typical classroom interventions. 
 \n\n\nTrainer: Tiffinie Helweg\, Infant/Toddler Specialist\, CCCDP\n\nCost
 : $25\n\nOCFS Subject Areas Covered: (1) Principles of childhood developme
 nt\, (3) Child day care program development\n
DTSTART;TZID=America/New_York:20250610T183000
DTEND;TZID=America/New_York:20250610T203000
LOCATION:301 Manchester Rd. Suite 201A\, Poughkeepse\, NY 12603 US
SUMMARY:CANCELLED - Clarity with Consistency: DAP 3 -Responding with Loving
  Care
END:VEVENT
END:VCALENDAR
