BEGIN:VCALENDAR
VERSION:2.0
PRODID:-//www.childcaredutchess.org//NONSGML kigkonsult.se iCalcreator 2.30
 .10//
CALSCALE:GREGORIAN
METHOD:PUBLISH
UID:da5f7659-dee2-42e0-b99d-e39419a40425
X-WR-CALDESC:Saturday\, June 14\, 2025\n9:30 am - 12:30 pm\n301 Manchester 
 Rd. Suite 201A\nPoughkeepsie\, NY 12603\n\nThis class meets the OCFS requi
 rements for CPR and First Aid for child care providers.\n\nTrainer: Scott 
 Kohn\, Certified First Aid/CPR Instructor\n\nThe cost for the class is $10
 0 per person and is not EIP eligible.\n\nTHIS CLASS IS LIMITED TO 20 PEOPL
 E ONLY. Register early to reserve your spot!
X-WR-RELCALID:655afe699ea1c81f035d73edae34f229
X-WR-TIMEZONE:America/New_York
BEGIN:VTIMEZONE
TZID:America/New_York
BEGIN:STANDARD
TZNAME:EST
DTSTART:20241103T020000
TZOFFSETFROM:-0400
TZOFFSETTO:-0500
RDATE:20251102T020000
RDATE:20261101T020000
END:STANDARD
BEGIN:DAYLIGHT
TZNAME:EDT
DTSTART:20250309T020000
TZOFFSETFROM:-0500
TZOFFSETTO:-0400
RDATE:20260308T020000
END:DAYLIGHT
END:VTIMEZONE
BEGIN:VEVENT
UID:cf83f76b-c099-4395-a1ab-bd89d2938839
DTSTAMP:20260422T003450Z
DESCRIPTION:Saturday\, June 14\, 2025\n9:30 am - 12:30 pm\n301 Manchester R
 d. Suite 201A\nPoughkeepsie\, NY 12603\n\nThis class meets the OCFS requir
 ements for CPR and First Aid for child care providers.\n\nTrainer: Scott K
 ohn\, Certified First Aid/CPR Instructor\n\nThe cost for the class is $100
  per person and is not EIP eligible.\n\nTHIS CLASS IS LIMITED TO 20 PEOPLE
  ONLY. Register early to reserve your spot!
DTSTART;TZID=America/New_York:20250614T093000
DTEND;TZID=America/New_York:20250614T123000
LOCATION:301 Manchester Rd. Suite 201A\, Poughkeepse\, NY 12603 US
SUMMARY:FULL - First Aid/CPR/AED
END:VEVENT
END:VCALENDAR
