BEGIN:VCALENDAR
VERSION:2.0
PRODID:-//www.childcaredutchess.org//NONSGML kigkonsult.se iCalcreator 2.30
 .10//
CALSCALE:GREGORIAN
METHOD:PUBLISH
UID:3ac2f8a5-17bc-43ce-937d-d71899189cfa
X-WR-CALDESC:In this training\, child care educators will delve into the si
 gnificance of incorporating STEAM (Science\, Technology\, Engineering\, Ar
 t\, and Math) within child care environments. The session will focus on ho
 w to implement STEAM programming safely and effectively. Participants will
  engage in hands-on activities tailored to various age groups\, including 
 toddlers\, 3/4's\, preschoolers\, and school-aged children. This training 
 also offers a valuable space for sharing ideas\, brainstorming\, and colla
 borating on program development.\n\nTrainer: Wendy Cooper\, Director of Pr
 ofessional Development\, CCCDP\n\nCost: $25.00\n\nOCFS Subject Areas Cover
 ed: (1) Principles of Childhood Development\, (3) Child Day Care Program D
 evelopment & \n\nThis training is appropriate for all modalities of care.
 \n\n
X-WR-RELCALID:d7a32b4c9102bcc9a3a2127d48f354ce
X-WR-TIMEZONE:America/New_York
BEGIN:VTIMEZONE
TZID:America/New_York
BEGIN:STANDARD
TZNAME:EST
DTSTART:20241103T020000
TZOFFSETFROM:-0400
TZOFFSETTO:-0500
RDATE:20251102T020000
RDATE:20261101T020000
END:STANDARD
BEGIN:DAYLIGHT
TZNAME:EDT
DTSTART:20250309T020000
TZOFFSETFROM:-0500
TZOFFSETTO:-0400
RDATE:20260308T020000
END:DAYLIGHT
END:VTIMEZONE
BEGIN:VEVENT
UID:d80bcdcb-b137-4523-a6f4-1e6c8a035882
DTSTAMP:20260422T005936Z
DESCRIPTION:In this training\, child care educators will delve into the sig
 nificance of incorporating STEAM (Science\, Technology\, Engineering\, Art
 \, and Math) within child care environments. The session will focus on how
  to implement STEAM programming safely and effectively. Participants will 
 engage in hands-on activities tailored to various age groups\, including t
 oddlers\, 3/4's\, preschoolers\, and school-aged children. This training a
 lso offers a valuable space for sharing ideas\, brainstorming\, and collab
 orating on program development.\n\nTrainer: Wendy Cooper\, Director of Pro
 fessional Development\, CCCDP\n\nCost: $25.00\n\nOCFS Subject Areas Covere
 d: (1) Principles of Childhood Development\, (3) Child Day Care Program De
 velopment & \n\nThis training is appropriate for all modalities of care.\n
 \n
DTSTART;TZID=America/New_York:20250626T183000
DTEND;TZID=America/New_York:20250626T203000
LOCATION:301 Manchester Rd. Suite 201A\, Poughkeepse\, AL 12603 US
SUMMARY:Cancelled - Mini Makers and Movers: STEAM in Child Care
END:VEVENT
END:VCALENDAR
