BEGIN:VCALENDAR
VERSION:2.0
PRODID:-//www.childcaredutchess.org//NONSGML kigkonsult.se iCalcreator 2.30
 .10//
CALSCALE:GREGORIAN
METHOD:PUBLISH
UID:c0f9cdda-3a51-481e-8dc4-0319640b5ff6
X-WR-CALDESC:During this training providers will learn to identify the prop
 er business insurance policies needed to protect their child care business
 . Providers will also understand how to find and pay for insurance.\n\nTra
 iner: Kathleen Murphy\, Director of Business Services\, CCCDP\n\nCost: FRE
 E\n\nOCFS Subject areas covered: (5) Business Record Maintenance and Manag
 ement\n\nThis training is for FDC and GFDC providers.
X-WR-RELCALID:31386dd918cb6765e7b54f11a2068bc5
X-WR-TIMEZONE:America/New_York
BEGIN:VTIMEZONE
TZID:America/New_York
BEGIN:STANDARD
TZNAME:EST
DTSTART:20241103T020000
TZOFFSETFROM:-0400
TZOFFSETTO:-0500
RDATE:20251102T020000
RDATE:20261101T020000
END:STANDARD
BEGIN:DAYLIGHT
TZNAME:EDT
DTSTART:20250309T020000
TZOFFSETFROM:-0500
TZOFFSETTO:-0400
RDATE:20260308T020000
END:DAYLIGHT
END:VTIMEZONE
BEGIN:VEVENT
UID:c999049b-e0de-4fbc-ab5f-2ca504edc9a0
DTSTAMP:20260422T003449Z
DESCRIPTION:During this training providers will learn to identify the prope
 r business insurance policies needed to protect their child care business.
  Providers will also understand how to find and pay for insurance.\n\nTrai
 ner: Kathleen Murphy\, Director of Business Services\, CCCDP\n\nCost: FREE
 \n\nOCFS Subject areas covered: (5) Business Record Maintenance and Manage
 ment\n\nThis training is for FDC and GFDC providers.
DTSTART;TZID=America/New_York:20250628T090000
DTEND;TZID=America/New_York:20250628T110000
LOCATION:301 Manchester Rd. Suite 201A\, Poughkeepse\, NY 12603 US
SUMMARY:FDC/GFDC Legal and Insurance Issues
END:VEVENT
END:VCALENDAR
