BEGIN:VCALENDAR
VERSION:2.0
PRODID:-//www.childcaredutchess.org//NONSGML kigkonsult.se iCalcreator 2.30
 .10//
CALSCALE:GREGORIAN
METHOD:PUBLISH
UID:f6d137dd-d285-457c-8abb-eea04820cf2b
X-WR-CALDESC:This training introduces educators to the services available t
 hrough the Child Care Council of Dutchess and Putnam\, Inc.\, while also o
 ffering valuable guidance on navigating the OCFS website to access importa
 nt forms and information. Participants will also learn about additional re
 sources through programs like QUALITYstars\, CSEA\, and the Aspire Registr
 y. Join us for this informative session and gain practical tools to suppor
 t and strengthen your program!\n\nTrainers: Wendy Cooper\, Director of Pro
 fessional Development\, CCCDP\n                Carol Hand\, Regulator\, CC
 CDP\nOCSF topics covered: (5) Business Record Maintenance and Management (
 7)Statutes and Regulations Pertaining to Child Care\n\nCost: FREE\n\nThis 
 training is appropriate for FDC & GDFC\n
X-WR-RELCALID:5408fad4614f9c226d1da74c9ad6e86a
X-WR-TIMEZONE:America/New_York
BEGIN:VTIMEZONE
TZID:America/New_York
BEGIN:STANDARD
TZNAME:EST
DTSTART:20241103T020000
TZOFFSETFROM:-0400
TZOFFSETTO:-0500
RDATE:20251102T020000
RDATE:20261101T020000
END:STANDARD
BEGIN:DAYLIGHT
TZNAME:EDT
DTSTART:20250309T020000
TZOFFSETFROM:-0500
TZOFFSETTO:-0400
RDATE:20260308T020000
END:DAYLIGHT
END:VTIMEZONE
BEGIN:VEVENT
UID:49b80899-95e9-4734-be71-41777bc89386
DTSTAMP:20260422T023513Z
DESCRIPTION:This training introduces educators to the services available th
 rough the Child Care Council of Dutchess and Putnam\, Inc.\, while also of
 fering valuable guidance on navigating the OCFS website to access importan
 t forms and information. Participants will also learn about additional res
 ources through programs like QUALITYstars\, CSEA\, and the Aspire Registry
 . Join us for this informative session and gain practical tools to support
  and strengthen your program!\n\nTrainers: Wendy Cooper\, Director of Prof
 essional Development\, CCCDP\n                Carol Hand\, Regulator\, CCC
 DP\nOCSF topics covered: (5) Business Record Maintenance and Management (7
 )Statutes and Regulations Pertaining to Child Care\n\nCost: FREE\n\nThis t
 raining is appropriate for FDC & GDFC\n
DTSTART;TZID=America/New_York:20250724T183000
DTEND;TZID=America/New_York:20250724T200000
LOCATION:301 Manchester Rd. Suite 201A\, Poughkeepse\, NY 12603 US
SUMMARY:New Provider Orientation
END:VEVENT
END:VCALENDAR
