BEGIN:VCALENDAR
VERSION:2.0
PRODID:-//www.childcaredutchess.org//NONSGML kigkonsult.se iCalcreator 2.30
 .10//
CALSCALE:GREGORIAN
METHOD:PUBLISH
UID:4d2771d4-33a5-4312-a3a0-d16c621d3f62
X-WR-CALDESC:Saturday\, July 26\, 2025\n9:30 am - 12:30 pm\n\nThis class me
 ets the OCFS requirements for CPR and First Aid for child care providers.
 \n\nTrainer: Scott Kohn\, Certified First Aid/CPR Instructor\n\nThe cost f
 or the class is $100 per person and is not EIP eligible.\n\nTHIS CLASS IS 
 LIMITED TO 20 PEOPLE ONLY. Register early to reserve your spot!
X-WR-RELCALID:bd9ad0b7472b5cf29efe4a06fccd64a6
X-WR-TIMEZONE:America/New_York
BEGIN:VTIMEZONE
TZID:America/New_York
BEGIN:STANDARD
TZNAME:EST
DTSTART:20241103T020000
TZOFFSETFROM:-0400
TZOFFSETTO:-0500
RDATE:20251102T020000
RDATE:20261101T020000
END:STANDARD
BEGIN:DAYLIGHT
TZNAME:EDT
DTSTART:20250309T020000
TZOFFSETFROM:-0500
TZOFFSETTO:-0400
RDATE:20260308T020000
END:DAYLIGHT
END:VTIMEZONE
BEGIN:VEVENT
UID:ef7e2a24-da94-4e88-998b-cb8e8fd47d31
DTSTAMP:20260422T023025Z
DESCRIPTION:Saturday\, July 26\, 2025\n9:30 am - 12:30 pm\n\nThis class mee
 ts the OCFS requirements for CPR and First Aid for child care providers.\n
 \nTrainer: Scott Kohn\, Certified First Aid/CPR Instructor\n\nThe cost for
  the class is $100 per person and is not EIP eligible.\n\nTHIS CLASS IS LI
 MITED TO 20 PEOPLE ONLY. Register early to reserve your spot!
DTSTART;TZID=America/New_York:20250726T093000
DTEND;TZID=America/New_York:20250726T123000
LOCATION:301 Manchester Rd. Suite 201A\, Poughkeepse\, NY 12603 US
SUMMARY:First Aid/CPR/AED
END:VEVENT
END:VCALENDAR
