BEGIN:VCALENDAR
VERSION:2.0
PRODID:-//www.childcaredutchess.org//NONSGML kigkonsult.se iCalcreator 2.30
 .10//
CALSCALE:GREGORIAN
METHOD:PUBLISH
UID:c5d4a39f-7366-4a71-9db7-4ca5e9ab0108
X-WR-CALDESC:This training equips participants with the knowledge and skill
 s to design engaging and developmentally appropriate dramatic play spaces 
 for children. Participants will explore the importance of dramatic play in
  fostering creativity\, social-emotional development\, and language skills
 . The session will cover key elements of designing versatile play areas\, 
 including selecting themes\, incorporating props\, organizing materials an
 d ensuring inclusivity and safety. Through hands-on activities\, educators
  will learn how to create immersive environments that encourage role-playi
 ng\, problem-solving\, and collaboration. By the end of the training\, att
 endees will be prepared to develop captivating dramatic play experiences t
 hat inspire imagination and meaningful learning.\n\nTrainer: Wendy Cooper\
 , Director of Professional Development\, CCCDP\n\nCost: $25.00 \n\nOCFS Su
 bject Areas Covered: (1) Principles of Childhood Development\, (3) Child D
 ay Care Program Development & \nThis training is appropriate for all modal
 ities of care and is open to the public.\n
X-WR-RELCALID:f45bf7a540ed32f844a8ae1d829fabf7
X-WR-TIMEZONE:America/New_York
BEGIN:VTIMEZONE
TZID:America/New_York
BEGIN:STANDARD
TZNAME:EST
DTSTART:20241103T020000
TZOFFSETFROM:-0400
TZOFFSETTO:-0500
RDATE:20251102T020000
RDATE:20261101T020000
END:STANDARD
BEGIN:DAYLIGHT
TZNAME:EDT
DTSTART:20250309T020000
TZOFFSETFROM:-0500
TZOFFSETTO:-0400
RDATE:20260308T020000
END:DAYLIGHT
END:VTIMEZONE
BEGIN:VEVENT
UID:ce27f30f-bbd7-4ccd-ad05-6cc596bfb49d
DTSTAMP:20260422T042322Z
DESCRIPTION:This training equips participants with the knowledge and skills
  to design engaging and developmentally appropriate dramatic play spaces f
 or children. Participants will explore the importance of dramatic play in 
 fostering creativity\, social-emotional development\, and language skills.
  The session will cover key elements of designing versatile play areas\, i
 ncluding selecting themes\, incorporating props\, organizing materials and
  ensuring inclusivity and safety. Through hands-on activities\, educators 
 will learn how to create immersive environments that encourage role-playin
 g\, problem-solving\, and collaboration. By the end of the training\, atte
 ndees will be prepared to develop captivating dramatic play experiences th
 at inspire imagination and meaningful learning.\n\nTrainer: Wendy Cooper\,
  Director of Professional Development\, CCCDP\n\nCost: $25.00 \n\nOCFS Sub
 ject Areas Covered: (1) Principles of Childhood Development\, (3) Child Da
 y Care Program Development & \nThis training is appropriate for all modali
 ties of care and is open to the public.\n
DTSTART;TZID=America/New_York:20250821T183000
DTEND;TZID=America/New_York:20250821T203000
LOCATION:301 Manchester Rd. Suite 201A\, Poughkeepse\, NY 12603 US
SUMMARY:Wonder Worlds in the Making: Creating Dramatic Play Spaces
END:VEVENT
END:VCALENDAR
