BEGIN:VCALENDAR
VERSION:2.0
PRODID:-//www.childcaredutchess.org//NONSGML kigkonsult.se iCalcreator 2.30
 .10//
CALSCALE:GREGORIAN
METHOD:PUBLISH
UID:d5438691-d1ec-4049-ba41-870871391ebf
X-WR-CALDESC:Foundations of Infant and Toddler Care\nEnhancing How We See a
 nd the Way We Care\nWhen: Tuesday\, August 26th\, 2025\nWhere: The Heartwo
 od Hotel\, The Vassar Institute of Liberal Arts\n \nTime: 5:30-7:30\n5:30-
 6:00 Gather\, connect\, register\, name tags\, enjoy snacks and drinks\n6:
 00-7:00 Shannon Carr Presents Foundations\n7:00-7:30 Carol Garboden Murray
 \, Nicole Bonelli and Beth Serwatka join Shannon for a\nquestions and answ
 ers and a conversation about how RIE has shaped our work at ITC and WNS\nP
 rofessional Development Certificates will be provided\nCome join us for a 
 conversation with RIE Associate\, Shannon Carr\, about the best\npractices
  around infant and toddler care. When children and their carers are seen\,
  heard\,\nvalued\, and respected their relationship shifts and their day-t
 o-day interactions often\nbecome increasingly thoughtful\, relaxed\, and f
 ulfilled for all. This is the foundation of\nMagda Gerber’s Educaring Appr
 oach and the pathway to self-directed\, confident\,\nconnected young peopl
 e.\nShannon Carr has a passion for the care and respect 0-3 year olds rece
 ive. Shannon\nholds a Master’s in Early Education and Child & Family Devel
 opment. As the owner\nand class facilitator at RISE\, she supports our you
 ngest generation by working to\nmaintain the self-confidence infants and t
 oddlers are born with\, while building\nresilience\, social skills\, and g
 rit. These are also skills that are strengthened in the\nparents that atte
 nd her classes.\nFor more information about Shannon and the concepts that 
 shape her work\, visit the\nRISE website: https://www.risechild.com/
X-WR-RELCALID:9f83edbd69714054326c8ebcf97aea3e
X-WR-TIMEZONE:America/New_York
BEGIN:VTIMEZONE
TZID:America/New_York
BEGIN:STANDARD
TZNAME:EST
DTSTART:20241103T020000
TZOFFSETFROM:-0400
TZOFFSETTO:-0500
RDATE:20251102T020000
RDATE:20261101T020000
END:STANDARD
BEGIN:DAYLIGHT
TZNAME:EDT
DTSTART:20250309T020000
TZOFFSETFROM:-0500
TZOFFSETTO:-0400
RDATE:20260308T020000
END:DAYLIGHT
END:VTIMEZONE
BEGIN:VEVENT
UID:28d0d977-5d84-4898-8c27-9670fa74dbda
DTSTAMP:20260422T043946Z
DESCRIPTION:Foundations of Infant and Toddler Care\nEnhancing How We See an
 d the Way We Care\nWhen: Tuesday\, August 26th\, 2025\nWhere: The Heartwoo
 d Hotel\, The Vassar Institute of Liberal Arts\n \nTime: 5:30-7:30\n5:30-6
 :00 Gather\, connect\, register\, name tags\, enjoy snacks and drinks\n6:0
 0-7:00 Shannon Carr Presents Foundations\n7:00-7:30 Carol Garboden Murray\
 , Nicole Bonelli and Beth Serwatka join Shannon for a\nquestions and answe
 rs and a conversation about how RIE has shaped our work at ITC and WNS\nPr
 ofessional Development Certificates will be provided\nCome join us for a c
 onversation with RIE Associate\, Shannon Carr\, about the best\npractices 
 around infant and toddler care. When children and their carers are seen\, 
 heard\,\nvalued\, and respected their relationship shifts and their day-to
 -day interactions often\nbecome increasingly thoughtful\, relaxed\, and fu
 lfilled for all. This is the foundation of\nMagda Gerber’s Educaring Appro
 ach and the pathway to self-directed\, confident\,\nconnected young people
 .\nShannon Carr has a passion for the care and respect 0-3 year olds recei
 ve. Shannon\nholds a Master’s in Early Education and Child & Family Develo
 pment. As the owner\nand class facilitator at RISE\, she supports our youn
 gest generation by working to\nmaintain the self-confidence infants and to
 ddlers are born with\, while building\nresilience\, social skills\, and gr
 it. These are also skills that are strengthened in the\nparents that atten
 d her classes.\nFor more information about Shannon and the concepts that s
 hape her work\, visit the\nRISE website: https://www.risechild.com/
DTSTART;TZID=America/New_York:20250826T173000
DTEND;TZID=America/New_York:20250826T193000
LOCATION:165 College Ave.\, Poughkeepsie\, AL 12603 US
SUMMARY:Foundations of Infant and Toddler Care
END:VEVENT
END:VCALENDAR
